BEGIN:VCALENDAR
VERSION:2.0
PRODID:-//Kino Tuškanac//Filmski programi//HR
BEGIN:VEVENT
UID:a8b9c006a2eecc177b4a4382ecd8ad82@kinotuskanac.hr
DTSTAMP:20260421T093216Z
DTSTART:20080306T210000
DTEND:20080306T230000
SUMMARY:Obrisi dana
LOCATION:Kino Tuškanac
DESCRIPTION:Rooz bar miadad, 2007 R: Bijan Mirbagheri
END:VEVENT
END:VCALENDAR