BEGIN:VCALENDAR
VERSION:2.0
PRODID:-//Kino Tuškanac//Filmski programi//HR
BEGIN:VEVENT
UID:89b39fbbf3d2331f3e85f032fd5c8ae6@kinotuskanac.hr
DTSTAMP:20260421T182400Z
DTSTART:20021119T210000
DTEND:20021119T230000
SUMMARY:Crni Narcis
LOCATION:Kino Tuškanac
DESCRIPTION:Black Narcissus, UK, 1947 R: Michael Powell
END:VEVENT
END:VCALENDAR