BEGIN:VCALENDAR
VERSION:2.0
PRODID:-//Kino Tuškanac//Filmski programi//HR
BEGIN:VEVENT
UID:e303ad78b8c565e469eba3d244d1d5bb@kinotuskanac.hr
DTSTAMP:20260421T164432Z
DTSTART:20080318T210000
DTEND:20080318T230000
SUMMARY:Slatki život
LOCATION:Kino Tuškanac
DESCRIPTION:La dolce vita, Italija, Francuska, 1960 R: Federico Fellini
END:VEVENT
END:VCALENDAR