BEGIN:VCALENDAR
VERSION:2.0
PRODID:-//Kino Tuškanac//Filmski programi//HR
BEGIN:VEVENT
UID:e415ccb47ee87f89fb2002611814d594@kinotuskanac.hr
DTSTAMP:20260423T200645Z
DTSTART:20080405T210000
DTEND:20080405T230000
SUMMARY:Mjehurić
LOCATION:Kino Tuškanac
DESCRIPTION:Ha- Buah, 2007 R: Eytan Fox
END:VEVENT
END:VCALENDAR