BEGIN:VCALENDAR
VERSION:2.0
PRODID:-//Kino Tuškanac//Filmski programi//HR
BEGIN:VEVENT
UID:244c7c4e773176ac4f4db97f6b7adcd6@kinotuskanac.hr
DTSTAMP:20260423T163556Z
DTSTART:20080403T210000
DTEND:20080403T230000
SUMMARY:Tajne kus-kusa
LOCATION:Kino Tuškanac
DESCRIPTION:La graine et le mulet, 2007 R: Abdellatif Kechiche
END:VEVENT
END:VCALENDAR