BEGIN:VCALENDAR
VERSION:2.0
PRODID:-//Kino Tuškanac//Filmski programi//HR
BEGIN:VEVENT
UID:d2dbb4faa0b9910d963c0f2de8c81711@kinotuskanac.hr
DTSTAMP:20260423T163749Z
DTSTART:20080402T210000
DTEND:20080402T230000
SUMMARY:Tajne kus-kusa
LOCATION:Kino Tuškanac
DESCRIPTION:La graine et le mulet, 2007 R: Abdellatif Kechiche
END:VEVENT
END:VCALENDAR