BEGIN:VCALENDAR
VERSION:2.0
PRODID:-//Kino Tuškanac//Filmski programi//HR
BEGIN:VEVENT
UID:6e504839e11984ebebc20d0229e23637@kinotuskanac.hr
DTSTAMP:20260423T200500Z
DTSTART:20080404T210000
DTEND:20080404T230000
SUMMARY:Mjehurić
LOCATION:Kino Tuškanac
DESCRIPTION:Ha- Buah, 2007 R: Eytan Fox
END:VEVENT
END:VCALENDAR