BEGIN:VCALENDAR
VERSION:2.0
PRODID:-//Kino Tuškanac//Filmski programi//HR
BEGIN:VEVENT
UID:34114d9bfc52333119b15a2c646216d6@kinotuskanac.hr
DTSTAMP:20260425T001222Z
DTSTART:20080409T190000
DTEND:20080409T210000
SUMMARY:Bog je Brazilac
LOCATION:Kino Tuškanac
DESCRIPTION:Deus é Brasileiro, 2003 R: Carlos Diegues
END:VEVENT
END:VCALENDAR