BEGIN:VCALENDAR
VERSION:2.0
PRODID:-//Kino Tuškanac//Filmski programi//HR
BEGIN:VEVENT
UID:d62d337b9a923a1933e5b0142339ee67@kinotuskanac.hr
DTSTAMP:20260425T000811Z
DTSTART:20080409T210000
DTEND:20080409T230000
SUMMARY:Mauá - car i kralj
LOCATION:Kino Tuškanac
DESCRIPTION:Mauá - O Imperador e o Rei, 1999 R: Sérgio Rezende
END:VEVENT
END:VCALENDAR