BEGIN:VCALENDAR
VERSION:2.0
PRODID:-//Kino Tuškanac//Filmski programi//HR
BEGIN:VEVENT
UID:b5eb8dd54e0fdb23e2ecf429b777eb03@kinotuskanac.hr
DTSTAMP:20260425T001018Z
DTSTART:20080410T190000
DTEND:20080410T210000
SUMMARY:Mauá - car i kralj
LOCATION:Kino Tuškanac
DESCRIPTION:Mauá - O Imperador e o Rei, 1999 R: Sérgio Rezende
END:VEVENT
END:VCALENDAR