BEGIN:VCALENDAR
VERSION:2.0
PRODID:-//Kino Tuškanac//Filmski programi//HR
BEGIN:VEVENT
UID:d80561d2cb7ec6e57354b1a24825eef1@kinotuskanac.hr
DTSTAMP:20260425T001223Z
DTSTART:20080410T210000
DTEND:20080410T230000
SUMMARY:Bog je Brazilac
LOCATION:Kino Tuškanac
DESCRIPTION:Deus é Brasileiro, 2003 R: Carlos Diegues
END:VEVENT
END:VCALENDAR