BEGIN:VCALENDAR
VERSION:2.0
PRODID:-//Kino Tuškanac//Filmski programi//HR
BEGIN:VEVENT
UID:13c6862e1fc31eeab58333ccdab02246@kinotuskanac.hr
DTSTAMP:20260420T052757Z
DTSTART:20080411T190000
DTEND:20080411T210000
SUMMARY:Godina kad su moji roditelji otišli na odmor
LOCATION:Kino Tuškanac
DESCRIPTION:O Ano em que Meus Pais Saíram de Férias, Brazil, 2006 R: Cao Hamburger
END:VEVENT
END:VCALENDAR