BEGIN:VCALENDAR
VERSION:2.0
PRODID:-//Kino Tuškanac//Filmski programi//HR
BEGIN:VEVENT
UID:980f27894de1b9fa907f055d364e571d@kinotuskanac.hr
DTSTAMP:20260420T052702Z
DTSTART:20080412T210000
DTEND:20080412T230000
SUMMARY:Godina kad su moji roditelji otišli na odmor
LOCATION:Kino Tuškanac
DESCRIPTION:O Ano em que Meus Pais Saíram de Férias, Brazil, 2006 R: Cao Hamburger
END:VEVENT
END:VCALENDAR