BEGIN:VCALENDAR
VERSION:2.0
PRODID:-//Kino Tuškanac//Filmski programi//HR
BEGIN:VEVENT
UID:92e7c7d8eca8fe0622b3efee9c782522@kinotuskanac.hr
DTSTAMP:20260425T031320Z
DTSTART:20021105T170000
DTEND:20021105T190000
SUMMARY:Samo ljudi
LOCATION:Kino Tuškanac
DESCRIPTION:Jugoslavija: Hrvatska, 1957 | Mjesto prikazivanja filma: Kulturno informativni centar KIC (Preradovićeva ul. 5) R: Branko Bauer
END:VEVENT
END:VCALENDAR