BEGIN:VCALENDAR
VERSION:2.0
PRODID:-//Kino Tuškanac//Filmski programi//HR
BEGIN:VEVENT
UID:2fb080c8a3661fb6bc4e0701c01342a4@kinotuskanac.hr
DTSTAMP:20260422T101834Z
DTSTART:20080506T190000
DTEND:20080506T210000
SUMMARY:Gospođice iz Rocheforta
LOCATION:Kino Tuškanac
DESCRIPTION:Les demoiselles de Rochefort, Francuska, 1967 | Mjesto prikazivanja filma: Kulturno informativni centar KIC (Preradovićeva ul. 5) R: Jacques Demy
END:VEVENT
END:VCALENDAR