BEGIN:VCALENDAR
VERSION:2.0
PRODID:-//Kino Tuškanac//Filmski programi//HR
BEGIN:VEVENT
UID:211608ebb7d469f1c44bbb33e38ff419@kinotuskanac.hr
DTSTAMP:20260423T144012Z
DTSTART:20080611T210000
DTEND:20080611T230000
SUMMARY:Diler
LOCATION:Kino Tuškanac
DESCRIPTION:Dealer, 2004 R: Benedek Fliegauf
END:VEVENT
END:VCALENDAR