BEGIN:VCALENDAR
VERSION:2.0
PRODID:-//Kino Tuškanac//Filmski programi//HR
BEGIN:VEVENT
UID:d8ab636692a56085b8607f8622cabb0f@kinotuskanac.hr
DTSTAMP:20260423T144010Z
DTSTART:20080612T190000
DTEND:20080612T210000
SUMMARY:Diler
LOCATION:Kino Tuškanac
DESCRIPTION:Dealer, 2004 R: Benedek Fliegauf
END:VEVENT
END:VCALENDAR