BEGIN:VCALENDAR
VERSION:2.0
PRODID:-//Kino Tuškanac//Filmski programi//HR
BEGIN:VEVENT
UID:9da9c3015a9aa7598426b3037baaaacf@kinotuskanac.hr
DTSTAMP:20260420T115303Z
DTSTART:20080605T210000
DTEND:20080605T230000
SUMMARY:Čovjek koga treba ubiti
LOCATION:Kino Tuškanac
DESCRIPTION:Jugoslavija: Hrvatska, 1979 | Mjesto prikazivanja filma: MM Centar (Studentski centar, Savska cesta 25) R: Veljko Bulajić
END:VEVENT
END:VCALENDAR