BEGIN:VCALENDAR
VERSION:2.0
PRODID:-//Kino Tuškanac//Filmski programi//HR
BEGIN:VEVENT
UID:8a55408c16db4d751d940382cbf96ab2@kinotuskanac.hr
DTSTAMP:20260420T115308Z
DTSTART:20080617T190000
DTEND:20080617T210000
SUMMARY:Čovjek koga treba ubiti
LOCATION:Kino Tuškanac
DESCRIPTION:Jugoslavija: Hrvatska, 1979 | Mjesto prikazivanja filma: MM Centar (Studentski centar, Savska cesta 25) R: Veljko Bulajić
END:VEVENT
END:VCALENDAR