BEGIN:VCALENDAR
VERSION:2.0
PRODID:-//Kino Tuškanac//Filmski programi//HR
BEGIN:VEVENT
UID:bbf85686dedcd64be28a004cde5aa00f@kinotuskanac.hr
DTSTAMP:20260425T015639Z
DTSTART:20080524T200000
DTEND:20080524T220000
SUMMARY:Lisice
LOCATION:Kino Tuškanac
DESCRIPTION:Jugoslavija, Jadran film, 1970 R: Krsto Papić
END:VEVENT
END:VCALENDAR