BEGIN:VCALENDAR
VERSION:2.0
PRODID:-//Kino Tuškanac//Filmski programi//HR
BEGIN:VEVENT
UID:538ec618ff45a6d13fcf0d5603b6a416@kinotuskanac.hr
DTSTAMP:20260424T182720Z
DTSTART:20021203T170000
DTEND:20021203T190000
SUMMARY:Zimovanje u Jakobsfeldu
LOCATION:Kino Tuškanac
DESCRIPTION:Jugoslavija, 1975 | Mjesto prikazivanja filma: Kulturno informativni centar KIC (Preradovićeva ul. 5) R: Branko Bauer
END:VEVENT
END:VCALENDAR