BEGIN:VCALENDAR
VERSION:2.0
PRODID:-//Kino Tuškanac//Filmski programi//HR
BEGIN:VEVENT
UID:628fb8e984f4725ff1e017fd2efc6712@kinotuskanac.hr
DTSTAMP:20260425T031446Z
DTSTART:20080408T210000
DTEND:20080408T230000
SUMMARY:Tajna Picasso
LOCATION:Kino Tuškanac
DESCRIPTION:Le mystère Picasso, Francuska, 1956 R: Henri-Georges Clouzot
END:VEVENT
END:VCALENDAR