BEGIN:VCALENDAR
VERSION:2.0
PRODID:-//Kino Tuškanac//Filmski programi//HR
BEGIN:VEVENT
UID:4a0bb0b02a6023163dd3fcbc732e89ea@kinotuskanac.hr
DTSTAMP:20260423T111514Z
DTSTART:20081001T210000
DTEND:20081001T230000
SUMMARY:Biriken
LOCATION:Kino Tuškanac
DESCRIPTION:Billiken, 1996 R: Junji Sakamoto
END:VEVENT
END:VCALENDAR