BEGIN:VCALENDAR
VERSION:2.0
PRODID:-//Kino Tuškanac//Filmski programi//HR
BEGIN:VEVENT
UID:d5884fea564faa6f2dd5854feb0a1ea5@kinotuskanac.hr
DTSTAMP:20260424T183120Z
DTSTART:20081010T190000
DTEND:20081010T210000
SUMMARY:Rim, otvoreni grad
LOCATION:Kino Tuškanac
DESCRIPTION:Roma, cittá aperta, 1945 R: Roberto Rossellini
END:VEVENT
END:VCALENDAR