BEGIN:VCALENDAR
VERSION:2.0
PRODID:-//Kino Tuškanac//Filmski programi//HR
BEGIN:VEVENT
UID:2ba24e48f5ac1720f020e330a3e83cd9@kinotuskanac.hr
DTSTAMP:20260422T021907Z
DTSTART:20081010T210000
DTEND:20081010T230000
SUMMARY:Tetovirana ruža
LOCATION:Kino Tuškanac
DESCRIPTION:The Rose Tattoo, 1955 R: Daniel Mann
END:VEVENT
END:VCALENDAR