BEGIN:VCALENDAR
VERSION:2.0
PRODID:-//Kino Tuškanac//Filmski programi//HR
BEGIN:VEVENT
UID:cd82636a5fa2ccf8b7e7b55ef1961b2b@kinotuskanac.hr
DTSTAMP:20260422T011525Z
DTSTART:20081011T190000
DTEND:20081011T210000
SUMMARY:Tetovirana ruža
LOCATION:Kino Tuškanac
DESCRIPTION:The Rose Tattoo, 1955 R: Daniel Mann
END:VEVENT
END:VCALENDAR