BEGIN:VCALENDAR
VERSION:2.0
PRODID:-//Kino Tuškanac//Filmski programi//HR
BEGIN:VEVENT
UID:99a5c6a9b0156e0cb6f13e43f493b1bb@kinotuskanac.hr
DTSTAMP:20260424T183151Z
DTSTART:20081011T210000
DTEND:20081011T230000
SUMMARY:Rim, otvoreni grad
LOCATION:Kino Tuškanac
DESCRIPTION:Roma, cittá aperta, 1945 R: Roberto Rossellini
END:VEVENT
END:VCALENDAR