BEGIN:VCALENDAR
VERSION:2.0
PRODID:-//Kino Tuškanac//Filmski programi//HR
BEGIN:VEVENT
UID:6e3b4b9f2e1f9d1f799a01787e8dbc4c@kinotuskanac.hr
DTSTAMP:20260419T224922Z
DTSTART:20081022T210000
DTEND:20081022T230000
SUMMARY:Besmrtna
LOCATION:Kino Tuškanac
DESCRIPTION:L' immortelle, 1962 R: Alain Robbe-Grillet
END:VEVENT
END:VCALENDAR