BEGIN:VCALENDAR
VERSION:2.0
PRODID:-//Kino Tuškanac//Filmski programi//HR
BEGIN:VEVENT
UID:9d8f0ee792d618e88250b1f90ec096b8@kinotuskanac.hr
DTSTAMP:20260419T224850Z
DTSTART:20081023T190000
DTEND:20081023T210000
SUMMARY:Besmrtna
LOCATION:Kino Tuškanac
DESCRIPTION:L' immortelle, 1962 R: Alain Robbe-Grillet
END:VEVENT
END:VCALENDAR