BEGIN:VCALENDAR
VERSION:2.0
PRODID:-//Kino Tuškanac//Filmski programi//HR
BEGIN:VEVENT
UID:03a733b2d8bcc8bab54e2a92943381c6@kinotuskanac.hr
DTSTAMP:20260420T100111Z
DTSTART:20081024T190000
DTEND:20081024T210000
SUMMARY:Izgaranje (1963)
LOCATION:Kino Tuškanac
DESCRIPTION:Le feu follet, 1963 R: Louis Malle
END:VEVENT
END:VCALENDAR