BEGIN:VCALENDAR
VERSION:2.0
PRODID:-//Kino Tuškanac//Filmski programi//HR
BEGIN:VEVENT
UID:451cb898a52b0385d279d5816e91ace8@kinotuskanac.hr
DTSTAMP:20260423T150247Z
DTSTART:20021207T150000
DTEND:20021207T170000
SUMMARY:I patuljci počinju mali
LOCATION:Kino Tuškanac
DESCRIPTION:Auch Zwerge haben klein angefangen, Zapadna Njemačka, 1970 R: Werner Herzog
END:VEVENT
END:VCALENDAR