BEGIN:VCALENDAR
VERSION:2.0
PRODID:-//Kino Tuškanac//Filmski programi//HR
BEGIN:VEVENT
UID:2a29255e58ce9f71a710606eac3bf63a@kinotuskanac.hr
DTSTAMP:20260420T100045Z
DTSTART:20081025T190000
DTEND:20081025T210000
SUMMARY:Izgaranje (1963)
LOCATION:Kino Tuškanac
DESCRIPTION:Le feu follet, 1963 R: Louis Malle
END:VEVENT
END:VCALENDAR