BEGIN:VCALENDAR
VERSION:2.0
PRODID:-//Kino Tuškanac//Filmski programi//HR
BEGIN:VEVENT
UID:b440a4a147303133afc8ba3e5f6a2448@kinotuskanac.hr
DTSTAMP:20260421T024138Z
DTSTART:20021210T190000
DTEND:20021210T210000
SUMMARY:Srce od stakla
LOCATION:Kino Tuškanac
DESCRIPTION:Herz aus Glas, Zapadna Njemačka, 1976 R: Werner Herzog
END:VEVENT
END:VCALENDAR