BEGIN:VCALENDAR
VERSION:2.0
PRODID:-//Kino Tuškanac//Filmski programi//HR
BEGIN:VEVENT
UID:97c2d49704b75da1a7400fdd554236e8@kinotuskanac.hr
DTSTAMP:20260425T174051Z
DTSTART:20080930T190000
DTEND:20080930T210000
SUMMARY:Obračun među gangsterima
LOCATION:Kino Tuškanac
DESCRIPTION:Du rififi chez les hommes, 1955 R: Jules Dassin
END:VEVENT
END:VCALENDAR