BEGIN:VCALENDAR
VERSION:2.0
PRODID:-//Kino Tuškanac//Filmski programi//HR
BEGIN:VEVENT
UID:94dc315bbf11f57f13c08fde9e4fe016@kinotuskanac.hr
DTSTAMP:20260423T045135Z
DTSTART:20021214T170000
DTEND:20021214T190000
SUMMARY:Cobra Verde
LOCATION:Kino Tuškanac
DESCRIPTION:Zapadna Njemačka, Gana, 1987 R: Werner Herzog
END:VEVENT
END:VCALENDAR