BEGIN:VCALENDAR
VERSION:2.0
PRODID:-//Kino Tuškanac//Filmski programi//HR
BEGIN:VEVENT
UID:9cf8c2aa50c51f2fd1f2a728fcb02d0d@kinotuskanac.hr
DTSTAMP:20260421T093350Z
DTSTART:20090203T190000
DTEND:20090203T210000
SUMMARY:Utjecaj gama zraka na čudesne nevene
LOCATION:Kino Tuškanac
DESCRIPTION:The Effect of Gamma Rays on Man-in-the- Moon Marigolds, 1972 R: Paul Newman
END:VEVENT
END:VCALENDAR