BEGIN:VCALENDAR
VERSION:2.0
PRODID:-//Kino Tuškanac//Filmski programi//HR
BEGIN:VEVENT
UID:8a9865fe3a8b3acc88747e890a4835bc@kinotuskanac.hr
DTSTAMP:20260420T172110Z
DTSTART:20090205T190000
DTEND:20090205T210000
SUMMARY:Sudac za vješanje
LOCATION:Kino Tuškanac
DESCRIPTION:The Life and Times of Judge Roy Bean, SAD, 1972 R: John Huston
END:VEVENT
END:VCALENDAR