BEGIN:VCALENDAR
VERSION:2.0
PRODID:-//Kino Tuškanac//Filmski programi//HR
BEGIN:VEVENT
UID:2f709ba32d08302f0071ec417fca9c39@kinotuskanac.hr
DTSTAMP:20260421T233927Z
DTSTART:20090204T190000
DTEND:20090204T210000
SUMMARY:Šećerna vodica
LOCATION:Kino Tuškanac
DESCRIPTION:Jugoslavija, 1983 R: Svetislav Prelić
END:VEVENT
END:VCALENDAR