BEGIN:VCALENDAR
VERSION:2.0
PRODID:-//Kino Tuškanac//Filmski programi//HR
BEGIN:VEVENT
UID:12938f318a5b89ab4cda6342c243d686@kinotuskanac.hr
DTSTAMP:20260423T042919Z
DTSTART:20090209T190000
DTEND:20090209T210000
SUMMARY:Abeceda straha
LOCATION:Kino Tuškanac
DESCRIPTION:Jugoslavija: Hrvatska, 1961 R: Fadil Hadžić
END:VEVENT
END:VCALENDAR