BEGIN:VCALENDAR
VERSION:2.0
PRODID:-//Kino Tuškanac//Filmski programi//HR
BEGIN:VEVENT
UID:d4ddc96a23017ea81ec002e498e1bae9@kinotuskanac.hr
DTSTAMP:20260420T100650Z
DTSTART:20090209T210000
DTEND:20090209T230000
SUMMARY:Prometej s otoka Viševice
LOCATION:Kino Tuškanac
DESCRIPTION:Jadran film, 1964 R: Vatroslav Mimica
END:VEVENT
END:VCALENDAR