BEGIN:VCALENDAR
VERSION:2.0
PRODID:-//Kino Tuškanac//Filmski programi//HR
BEGIN:VEVENT
UID:a4914ca5859ecc2d558ec6d53870ed33@kinotuskanac.hr
DTSTAMP:20260420T100149Z
DTSTART:20090210T190000
DTEND:20090210T210000
SUMMARY:Prometej s otoka Viševice
LOCATION:Kino Tuškanac
DESCRIPTION:Jadran film, 1964 R: Vatroslav Mimica
END:VEVENT
END:VCALENDAR