BEGIN:VCALENDAR
VERSION:2.0
PRODID:-//Kino Tuškanac//Filmski programi//HR
BEGIN:VEVENT
UID:202780b2b5e4d321154aeddc394cce2b@kinotuskanac.hr
DTSTAMP:20260423T042853Z
DTSTART:20090210T210000
DTEND:20090210T230000
SUMMARY:Abeceda straha
LOCATION:Kino Tuškanac
DESCRIPTION:Jugoslavija: Hrvatska, 1961 R: Fadil Hadžić
END:VEVENT
END:VCALENDAR