BEGIN:VCALENDAR
VERSION:2.0
PRODID:-//Kino Tuškanac//Filmski programi//HR
BEGIN:VEVENT
UID:90ca4622b9d632c7f09ff3c391555bbd@kinotuskanac.hr
DTSTAMP:20260420T160839Z
DTSTART:20090228T210000
DTEND:20090228T230000
SUMMARY:Kanal
LOCATION:Kino Tuškanac
DESCRIPTION:Poljska, 1957 | Mjesto prikazivanja filma: Kino Forum (SD Stjepan Radić, Jarunska ul. 2) R: Andrzej Wajda
END:VEVENT
END:VCALENDAR