BEGIN:VCALENDAR
VERSION:2.0
PRODID:-//Kino Tuškanac//Filmski programi//HR
BEGIN:VEVENT
UID:58b0dfae4c31292f0124b1837c0ad4be@kinotuskanac.hr
DTSTAMP:20260420T200037Z
DTSTART:20030204T210000
DTEND:20030204T230000
SUMMARY:Američki prijatelj
LOCATION:Kino Tuškanac
DESCRIPTION:Der amerikanische Freund, 1977 R: Wim Wenders
END:VEVENT
END:VCALENDAR