BEGIN:VCALENDAR
VERSION:2.0
PRODID:-//Kino Tuškanac//Filmski programi//HR
BEGIN:VEVENT
UID:9dc596c36ffdac7eab0882c066ab87f8@kinotuskanac.hr
DTSTAMP:20260420T161102Z
DTSTART:20090302T210000
DTEND:20090302T230000
SUMMARY:Pokoljenje
LOCATION:Kino Tuškanac
DESCRIPTION:Pokolenie, Poljska, 1955 | Mjesto prikazivanja filma: Kino Forum (SD Stjepan Radić, Jarunska ul. 2) R: Andrzej Wajda
END:VEVENT
END:VCALENDAR