BEGIN:VCALENDAR
VERSION:2.0
PRODID:-//Kino Tuškanac//Filmski programi//HR
BEGIN:VEVENT
UID:5b64f44b18a1b9b73d55f540df1ffb51@kinotuskanac.hr
DTSTAMP:20260423T220502Z
DTSTART:20090303T210000
DTEND:20090303T230000
SUMMARY:Ljubav u dvadesetoj
LOCATION:Kino Tuškanac
DESCRIPTION:L' amour a vingt ans, 1962 R: Andrzej Wajda
END:VEVENT
END:VCALENDAR