BEGIN:VCALENDAR
VERSION:2.0
PRODID:-//Kino Tuškanac//Filmski programi//HR
BEGIN:VEVENT
UID:cd1a826b22ba67447509ec18c75b9ff3@kinotuskanac.hr
DTSTAMP:20260419T225208Z
DTSTART:20030208T170000
DTEND:20030208T190000
SUMMARY:Lisabonska priča
LOCATION:Kino Tuškanac
DESCRIPTION:Lisbon Story, 1994 R: Wim Wenders
END:VEVENT
END:VCALENDAR