BEGIN:VCALENDAR
VERSION:2.0
PRODID:-//Kino Tuškanac//Filmski programi//HR
BEGIN:VEVENT
UID:8d030cf32b65e9d9591fbdb1650fdce0@kinotuskanac.hr
DTSTAMP:20260419T213111Z
DTSTART:20030128T170000
DTEND:20030128T190000
SUMMARY:Carevo novo ruho
LOCATION:Kino Tuškanac
DESCRIPTION:1961 R: Ante Babaja
END:VEVENT
END:VCALENDAR