BEGIN:VCALENDAR
VERSION:2.0
PRODID:-//Kino Tuškanac//Filmski programi//HR
BEGIN:VEVENT
UID:1deb38ccecbfec566b1500ac13b970e6@kinotuskanac.hr
DTSTAMP:20260421T035632Z
DTSTART:20090325T190000
DTEND:20090325T210000
SUMMARY:Posvađane sestre
LOCATION:Kino Tuškanac
DESCRIPTION:Les soeurs fâchées, 2004 R: Alexandre Leclere
END:VEVENT
END:VCALENDAR