BEGIN:VCALENDAR
VERSION:2.0
PRODID:-//Kino Tuškanac//Filmski programi//HR
BEGIN:VEVENT
UID:eff3febb9ae0d9e6ccbd2dbf715642da@kinotuskanac.hr
DTSTAMP:20260420T165602Z
DTSTART:20090326T190000
DTEND:20090326T210000
SUMMARY:Dom (2008)
LOCATION:Kino Tuškanac
DESCRIPTION:Home, 2008 R: Ursula Meier
END:VEVENT
END:VCALENDAR